BEGIN:VCALENDAR
VERSION:2.0
PRODID:-//ArgosConsult - ECPv6.2.9//NONSGML v1.0//EN
CALSCALE:GREGORIAN
METHOD:PUBLISH
X-WR-CALNAME:ArgosConsult
X-ORIGINAL-URL:https://argosconsult.de
X-WR-CALDESC:Veranstaltungen für ArgosConsult
REFRESH-INTERVAL;VALUE=DURATION:PT1H
X-Robots-Tag:noindex
X-PUBLISHED-TTL:PT1H
BEGIN:VTIMEZONE
TZID:Europe/Berlin
BEGIN:DAYLIGHT
TZOFFSETFROM:+0100
TZOFFSETTO:+0200
TZNAME:CEST
DTSTART:20250330T010000
END:DAYLIGHT
BEGIN:STANDARD
TZOFFSETFROM:+0200
TZOFFSETTO:+0100
TZNAME:CET
DTSTART:20251026T010000
END:STANDARD
END:VTIMEZONE
BEGIN:VEVENT
DTSTART;VALUE=DATE:20250605
DTEND;VALUE=DATE:20250606
DTSTAMP:20260424T072347
CREATED:20250422T071129Z
LAST-MODIFIED:20250423T070242Z
UID:5421-1749081600-1749167999@argosconsult.de
SUMMARY:5. Juni 2025 // Innovationstag Mittelstand des BMWK in Berlin
DESCRIPTION:Zukunftstrends\, Ideen und Projekte hautnah bei einem spannenden OPEN-AIR-EVENT in Berlin Neue Technologien\, innovative Projekte und kreative Ideen als Wegweiser für die Zukunft – Das präsentieren kleine und mittlere Unternehmen am 5. Juni 2025 in Berlin beim Innovationstag Mittelstand des Bundesministeriums für Wirtschaft und Klimaschutz (BMWK). Rund 300 Aussteller vom Start-up bis zum etablierten Familienunternehmen stellen ihre wegweisenden Entwicklungen vor\, die mit Unterstützung der themenoffenen Innovationsförderung des BMWK realisiert werden konnten. Treffen Sie ArgosConsult vor Ort. Kontaktieren Sie uns und wir vereinbaren eine für Sie passende Zeit und einen geeigneten Ort für ein entspanntes Gespräch.
URL:https://argosconsult.de/event/1-juni-2025-innovationstag-mittelstand-des-bmwk-in-berlin/
LOCATION:Berlin
CATEGORIES:de
END:VEVENT
BEGIN:VEVENT
DTSTART;VALUE=DATE:20250625
DTEND;VALUE=DATE:20250626
DTSTAMP:20260424T072347
CREATED:20250428T082040Z
LAST-MODIFIED:20250428T082040Z
UID:5425-1750809600-1750895999@argosconsult.de
SUMMARY:25. Juni 2025 // Sächsische Innovationskonferenz in Dresden
DESCRIPTION:Im Fokus stehen der Sächsischen Innovationskonferenz wie jedes Jahr spannende Ideen\, überzeugende Innovationen und neue Impulse. Nutzen Sie die Gelegenheit\, sich inspirieren zu lassen\, Ihr Netzwerk zu pflegen und neue Kontakte zu knüpfen. ArgosConsult wird vor Ort sein.
URL:https://argosconsult.de/event/25-juni-2025-saechsische-innovationskonferenz-in-dresden/
CATEGORIES:de
END:VEVENT
END:VCALENDAR