BEGIN:VCALENDAR
VERSION:2.0
PRODID:-//ArgosConsult - ECPv6.2.9//NONSGML v1.0//EN
CALSCALE:GREGORIAN
METHOD:PUBLISH
X-ORIGINAL-URL:https://argosconsult.de
X-WR-CALDESC:Veranstaltungen für ArgosConsult
REFRESH-INTERVAL;VALUE=DURATION:PT1H
X-Robots-Tag:noindex
X-PUBLISHED-TTL:PT1H
BEGIN:VTIMEZONE
TZID:Europe/Berlin
BEGIN:DAYLIGHT
TZOFFSETFROM:+0100
TZOFFSETTO:+0200
TZNAME:CEST
DTSTART:20250330T010000
END:DAYLIGHT
BEGIN:STANDARD
TZOFFSETFROM:+0200
TZOFFSETTO:+0100
TZNAME:CET
DTSTART:20251026T010000
END:STANDARD
END:VTIMEZONE
BEGIN:VEVENT
DTSTART;VALUE=DATE:20250514
DTEND;VALUE=DATE:20250516
DTSTAMP:20260424T055220
CREATED:20250422T070310Z
LAST-MODIFIED:20250423T070857Z
UID:5419-1747180800-1747353599@argosconsult.de
SUMMARY:14./15. Mai 2025 // BIONNALE in Berlin
DESCRIPTION:BIONNALE is the largest networking event for life sciences and healthcare industries in the German capital region. Representatives from academia and industry attend the annual life sciences event in Berlin to identify\, engage and start strategic relationships. The networking character is one strength of BIONNALE with more than 1500 attendees from over 45 countries in 2023. ArgosConsult will be present on both days at the venue. Just schedule a meeting on the official BIONNALE 2025 website. We are looking forward to meeting you in Berlin!
URL:https://argosconsult.de/event/14-15-mai-2025-bionnale-in-berlin/
LOCATION:Berlin
CATEGORIES:de,en
END:VEVENT
END:VCALENDAR