BEGIN:VCALENDAR
VERSION:2.0
PRODID:-//ArgosConsult - ECPv6.2.9//NONSGML v1.0//EN
CALSCALE:GREGORIAN
METHOD:PUBLISH
X-ORIGINAL-URL:https://argosconsult.de
X-WR-CALDESC:Veranstaltungen für ArgosConsult
REFRESH-INTERVAL;VALUE=DURATION:PT1H
X-Robots-Tag:noindex
X-PUBLISHED-TTL:PT1H
BEGIN:VTIMEZONE
TZID:Europe/Berlin
BEGIN:DAYLIGHT
TZOFFSETFROM:+0100
TZOFFSETTO:+0200
TZNAME:CEST
DTSTART:20240331T010000
END:DAYLIGHT
BEGIN:STANDARD
TZOFFSETFROM:+0200
TZOFFSETTO:+0100
TZNAME:CET
DTSTART:20241027T010000
END:STANDARD
END:VTIMEZONE
BEGIN:VEVENT
DTSTART;VALUE=DATE:20241111
DTEND;VALUE=DATE:20241115
DTSTAMP:20260424T055745
CREATED:20240220T132157Z
LAST-MODIFIED:20240220T132157Z
UID:5415-1731283200-1731628799@argosconsult.de
SUMMARY:11./14. November 2024 // MEDICA in Düsseldorf
DESCRIPTION:Die größte Gesundheitsmesse der Welt lädt wieder zum Austausch mit Medizinern und Vertretern der Industrie ein. Hier entstehen Kooperationen und Partnerschaften. Besucherinnen und Besucher aus 166 Nationen treffen auf Aussteller aus fast 70 Ländern. 61 Prozent der MEDICA Besucherinnen und Besucher vertreten das Topmanagement ihrer Unternehmen bzw. Organisationen. Damit punktet die MEDICA nicht nur mit einer hohen Besucherqualität\, sondern auch mit einer einzigartigen Entscheiderdichte.
URL:https://argosconsult.de/event/11-14-november-2024-medica-in-duesseldorf/
LOCATION:Düsseldorf
CATEGORIES:de
END:VEVENT
END:VCALENDAR